BEGIN:VCALENDAR
VERSION:2.0
PRODID:-//www.asteraz.org//NONSGML kigkonsult.se iCalcreator 2.30.10//
CALSCALE:GREGORIAN
METHOD:PUBLISH
UID:699181e8-07fb-4443-8b5d-756a41023865
X-WR-CALDESC:Join us at Aster's Downtown Mesa Senior Center every Friday to
  play Bingo for Cash. RSVP in advance to the Center\, spots are limited.
X-WR-RELCALID:070eda4f423db82b698599aa446c3eb9
X-WR-TIMEZONE:America/Denver
BEGIN:VTIMEZONE
TZID:America/Denver
BEGIN:STANDARD
TZNAME:MST
DTSTART:20301103T020000
TZOFFSETFROM:-0600
TZOFFSETTO:-0700
RDATE:20311102T020000
RDATE:20321107T020000
END:STANDARD
BEGIN:DAYLIGHT
TZNAME:MDT
DTSTART:20310309T020000
TZOFFSETFROM:-0700
TZOFFSETTO:-0600
RDATE:20320314T020000
END:DAYLIGHT
END:VTIMEZONE
BEGIN:VEVENT
UID:d3d9e7cf-adef-4d36-8a9e-a068bc8b6146
DTSTAMP:20260425T122633Z
DESCRIPTION:Join us at Aster's Downtown Mesa Senior Center every Friday to 
 play Bingo for Cash. RSVP in advance to the Center\, spots are limited.
DTSTART;TZID=America/Denver:20310905T130000
DTEND;TZID=America/Denver:20310905T150000
LOCATION:247 N. Macdonald Street\, Mesa\, AZ 85201 US
SUMMARY:Bingo! For Money
END:VEVENT
END:VCALENDAR
