BEGIN:VCALENDAR
VERSION:2.0
PRODID:-//www.asteraz.org//NONSGML kigkonsult.se iCalcreator 2.30.10//
CALSCALE:GREGORIAN
METHOD:PUBLISH
UID:b6d0db86-96c5-4a77-8550-f348cf54062a
X-WR-CALDESC:Join us every day from 10:00 am to 3:00 pm for an exciting gam
 e of billiards at Mesa's Downtown Senior Center. Our pool tables just got 
 resurfaced\, and they're as good as new.
X-WR-RELCALID:bb5e5987c457a767f9caf3bf59716e81
X-WR-TIMEZONE:America/Denver
BEGIN:VTIMEZONE
TZID:America/Denver
BEGIN:STANDARD
TZNAME:MST
DTSTART:20301103T020000
TZOFFSETFROM:-0600
TZOFFSETTO:-0700
RDATE:20311102T020000
RDATE:20321107T020000
END:STANDARD
BEGIN:DAYLIGHT
TZNAME:MDT
DTSTART:20310309T020000
TZOFFSETFROM:-0700
TZOFFSETTO:-0600
RDATE:20320314T020000
END:DAYLIGHT
END:VTIMEZONE
BEGIN:VEVENT
UID:48b384a7-d365-42ae-b697-6e364c92f932
DTSTAMP:20260425T122910Z
DESCRIPTION:Join us every day from 10:00 am to 3:00 pm for an exciting game
  of billiards at Mesa's Downtown Senior Center. Our pool tables just got r
 esurfaced\, and they're as good as new.
DTSTART;TZID=America/Denver:20310905T100000
DTEND;TZID=America/Denver:20310905T150000
LOCATION:247 N. Macdonald Street\, Mesa\, AZ 85201 US
SUMMARY:Billiards at the Mesa Downtown Senior Center
END:VEVENT
END:VCALENDAR
