BEGIN:VCALENDAR
VERSION:2.0
PRODID:-//www.asteraz.org//NONSGML kigkonsult.se iCalcreator 2.30.10//
CALSCALE:GREGORIAN
METHOD:PUBLISH
UID:8c42df24-8f87-404d-bf48-ade6988cb754
X-WR-CALDESC:Have fun creating jewelry\, origami\, and other arts and craft
 s.
X-WR-RELCALID:efe449cfb324ae24a81341e390ab12de
X-WR-TIMEZONE:America/Denver
BEGIN:VTIMEZONE
TZID:America/Denver
BEGIN:STANDARD
TZNAME:MST
DTSTART:20301103T020000
TZOFFSETFROM:-0600
TZOFFSETTO:-0700
RDATE:20311102T020000
RDATE:20321107T020000
END:STANDARD
BEGIN:DAYLIGHT
TZNAME:MDT
DTSTART:20310309T020000
TZOFFSETFROM:-0700
TZOFFSETTO:-0600
RDATE:20320314T020000
END:DAYLIGHT
END:VTIMEZONE
BEGIN:VEVENT
UID:d8b1aa0c-47b0-42b1-82fb-f2172ccd987e
DTSTAMP:20260425T122121Z
DESCRIPTION:Have fun creating jewelry\, origami\, and other arts and crafts
 .
DTSTART;TZID=America/Denver:20310905T090000
DTEND;TZID=America/Denver:20310905T110000
LOCATION:247 N. Macdonald Street\, Mesa\, AZ 85201 US
SUMMARY:Arts & Crafts
END:VEVENT
END:VCALENDAR
