BEGIN:VCALENDAR
VERSION:2.0
PRODID:-//www.asteraz.org//NONSGML kigkonsult.se iCalcreator 2.30.10//
CALSCALE:GREGORIAN
METHOD:PUBLISH
UID:1543fce3-6fd6-48fb-aaea-7edbc127174e
X-WR-CALDESC:Ever wanted to try your hand at acting? Here's your chance! Jo
 in our Senior Players group every Thursday to test out your acting chops -
  no experience needed\, and all are welcome!
X-WR-RELCALID:b33b1134bbfdc71b71b4d968f8e0b0a1
X-WR-TIMEZONE:America/Denver
BEGIN:VTIMEZONE
TZID:America/Denver
BEGIN:STANDARD
TZNAME:MST
DTSTART:20301103T020000
TZOFFSETFROM:-0600
TZOFFSETTO:-0700
RDATE:20311102T020000
RDATE:20321107T020000
END:STANDARD
BEGIN:DAYLIGHT
TZNAME:MDT
DTSTART:20310309T020000
TZOFFSETFROM:-0700
TZOFFSETTO:-0600
RDATE:20320314T020000
END:DAYLIGHT
END:VTIMEZONE
BEGIN:VEVENT
UID:411c004c-a7c1-44c1-b45d-a1da4989f112
DTSTAMP:20260425T122734Z
DESCRIPTION:Ever wanted to try your hand at acting? Here's your chance! Joi
 n our Senior Players group every Thursday to test out your acting chops - 
 no experience needed\, and all are welcome!
DTSTART;TZID=America/Denver:20310904T130000
DTEND;TZID=America/Denver:20310904T140000
LOCATION:247 N. Macdonald Street\, Mesa\, AZ 85201 US
SUMMARY:Senior Players Theater Group
END:VEVENT
END:VCALENDAR
