BEGIN:VCALENDAR
VERSION:2.0
PRODID:-//www.asteraz.org//NONSGML kigkonsult.se iCalcreator 2.30.10//
CALSCALE:GREGORIAN
METHOD:PUBLISH
UID:0eb0a048-c25d-43f3-9b4e-6d85627d64d8
X-WR-CALDESC:Join us every Thursday at the Red Mountain Senior Center for a
  fun game of Mexican Train Dominoes. No experience? No problem! We're here
  to have fun.
X-WR-RELCALID:19f7b622649ef6f3c47f09cceab74299
X-WR-TIMEZONE:America/Denver
BEGIN:VTIMEZONE
TZID:America/Denver
BEGIN:STANDARD
TZNAME:MST
DTSTART:20301103T020000
TZOFFSETFROM:-0600
TZOFFSETTO:-0700
RDATE:20311102T020000
RDATE:20321107T020000
END:STANDARD
BEGIN:DAYLIGHT
TZNAME:MDT
DTSTART:20310309T020000
TZOFFSETFROM:-0700
TZOFFSETTO:-0600
RDATE:20320314T020000
END:DAYLIGHT
END:VTIMEZONE
BEGIN:VEVENT
UID:39f87646-03b5-4327-9a2f-49ff9ed9fa64
DTSTAMP:20260425T122607Z
DESCRIPTION:Join us every Thursday at the Red Mountain Senior Center for a 
 fun game of Mexican Train Dominoes. No experience? No problem! We're here 
 to have fun.
DTSTART;TZID=America/Denver:20310904T123000
DTEND;TZID=America/Denver:20310904T153000
LOCATION:7550 East Adobe Street\, Mesa\, AZ 85207 US
SUMMARY:Mexican Train Dominoes
END:VEVENT
END:VCALENDAR
