BEGIN:VCALENDAR
VERSION:2.0
PRODID:-//www.asteraz.org//NONSGML kigkonsult.se iCalcreator 2.30.10//
CALSCALE:GREGORIAN
METHOD:PUBLISH
UID:80415aa8-3b5d-4a94-9c22-0f02ebe4db90
X-WR-CALDESC:Slip on your dancing shoes and dance the afternoon away! Enjoy
  live music. Capacity is limited. \n\nCost per person is $5.
X-WR-RELCALID:eddc0015713beb82f9b55a14f7873d56
X-WR-TIMEZONE:America/Denver
BEGIN:VTIMEZONE
TZID:America/Denver
BEGIN:STANDARD
TZNAME:MST
DTSTART:20301103T020000
TZOFFSETFROM:-0600
TZOFFSETTO:-0700
RDATE:20311102T020000
RDATE:20321107T020000
END:STANDARD
BEGIN:DAYLIGHT
TZNAME:MDT
DTSTART:20310309T020000
TZOFFSETFROM:-0700
TZOFFSETTO:-0600
RDATE:20320314T020000
END:DAYLIGHT
END:VTIMEZONE
BEGIN:VEVENT
UID:b5a3203d-8c89-493d-807a-88beafe181d0
DTSTAMP:20260425T122144Z
DESCRIPTION:Slip on your dancing shoes and dance the afternoon away! Enjoy 
 live music. Capacity is limited. \n\nCost per person is $5.
DTSTART;TZID=America/Denver:20310903T130000
DTEND;TZID=America/Denver:20310903T150000
LOCATION:Red Mountain Senior Center
SUMMARY:RM Dance Party
END:VEVENT
END:VCALENDAR
