BEGIN:VCALENDAR
VERSION:2.0
PRODID:-//www.asteraz.org//NONSGML kigkonsult.se iCalcreator 2.30.10//
CALSCALE:GREGORIAN
METHOD:PUBLISH
UID:22caf6cf-567c-422c-8cae-7e96f0ac72f5
X-WR-CALDESC:The plane is waiting on the tarmac to take you to fascinating 
 countries around the world.\n\nCapacity is limited.
X-WR-RELCALID:33f46220bf364eca871eef0a59e2c32f
X-WR-TIMEZONE:America/Denver
BEGIN:VTIMEZONE
TZID:America/Denver
BEGIN:STANDARD
TZNAME:MST
DTSTART:20301103T020000
TZOFFSETFROM:-0600
TZOFFSETTO:-0700
RDATE:20311102T020000
RDATE:20321107T020000
END:STANDARD
BEGIN:DAYLIGHT
TZNAME:MDT
DTSTART:20310309T020000
TZOFFSETFROM:-0700
TZOFFSETTO:-0600
RDATE:20320314T020000
END:DAYLIGHT
END:VTIMEZONE
BEGIN:VEVENT
UID:91a7c406-4f64-432e-9b5c-8bbadf6b632c
DTSTAMP:20260425T121953Z
DESCRIPTION:The plane is waiting on the tarmac to take you to fascinating c
 ountries around the world.\n\nCapacity is limited.
DTSTART;TZID=America/Denver:20310901T140000
DTEND;TZID=America/Denver:20310901T150000
LOCATION:Mesa Downtown
SUMMARY:DT Virtual Travel
END:VEVENT
END:VCALENDAR
