BEGIN:VCALENDAR
VERSION:2.0
PRODID:-//www.asteraz.org//NONSGML kigkonsult.se iCalcreator 2.30.10//
CALSCALE:GREGORIAN
METHOD:PUBLISH
UID:4e3510e4-2d10-4804-b687-a2c7f219189d
X-WR-CALDESC:Join your fellow artists and hobbyists as you have fun drawing
  portraits from live models. Capacity is limited. The class costs $5/perso
 n.
X-WR-RELCALID:d4cc979c616e419e616a171125d4ff57
X-WR-TIMEZONE:America/Denver
BEGIN:VTIMEZONE
TZID:America/Denver
BEGIN:STANDARD
TZNAME:MST
DTSTART:20301103T020000
TZOFFSETFROM:-0600
TZOFFSETTO:-0700
RDATE:20311102T020000
RDATE:20321107T020000
END:STANDARD
BEGIN:DAYLIGHT
TZNAME:MDT
DTSTART:20310309T020000
TZOFFSETFROM:-0700
TZOFFSETTO:-0600
RDATE:20320314T020000
END:DAYLIGHT
END:VTIMEZONE
BEGIN:VEVENT
UID:23da5a3a-035f-4be6-ac83-a8fed1601b97
DTSTAMP:20260425T105848Z
DESCRIPTION:Join your fellow artists and hobbyists as you have fun drawing 
 portraits from live models. Capacity is limited. The class costs $5/person
 .
DTSTART;TZID=America/Denver:20310829T083000
DTEND;TZID=America/Denver:20310829T123000
LOCATION:7550 East Adobe Street\, Mesa\, AZ 85207 US
SUMMARY:Portrait Painting Workshop
END:VEVENT
END:VCALENDAR
