BEGIN:VCALENDAR
VERSION:2.0
PRODID:-//www.asteraz.org//NONSGML kigkonsult.se iCalcreator 2.30.10//
CALSCALE:GREGORIAN
METHOD:PUBLISH
UID:b7dc39f9-44a4-4350-8d68-f1625cc70dcf
X-WR-CALDESC:Join the guys to make new friends.
X-WR-RELCALID:bc89625cfb792c5ff5933fa0d02542f6
X-WR-TIMEZONE:America/Denver
BEGIN:VTIMEZONE
TZID:America/Denver
BEGIN:STANDARD
TZNAME:MST
DTSTART:20301103T020000
TZOFFSETFROM:-0600
TZOFFSETTO:-0700
RDATE:20311102T020000
RDATE:20321107T020000
END:STANDARD
BEGIN:DAYLIGHT
TZNAME:MDT
DTSTART:20310309T020000
TZOFFSETFROM:-0700
TZOFFSETTO:-0600
RDATE:20320314T020000
END:DAYLIGHT
END:VTIMEZONE
BEGIN:VEVENT
UID:a35a979a-c762-4d48-b601-3c5a48557d4b
DTSTAMP:20260425T105553Z
DESCRIPTION:Join the guys to make new friends.
DTSTART;TZID=America/Denver:20310828T123000
DTEND;TZID=America/Denver:20310828T133000
LOCATION:7550 East Adobe Street\, Mesa\, AZ 85207 US
SUMMARY:The Men's Crew
END:VEVENT
END:VCALENDAR
