BEGIN:VCALENDAR
VERSION:2.0
PRODID:-//www.asteraz.org//NONSGML kigkonsult.se iCalcreator 2.30.10//
CALSCALE:GREGORIAN
METHOD:PUBLISH
UID:5b670652-2300-4786-8a6a-926a8adc52a6
X-WR-CALDESC:Join us every Monday and Thursday at the Red Mountain Senior C
 enter for Diamond Art! Diamond Art is a relaxing artform that allows you t
 o make beautiful pictures\, dot by dot.
X-WR-RELCALID:bc53d0c1f26804b0598707a5ae7617e7
X-WR-TIMEZONE:America/Denver
BEGIN:VTIMEZONE
TZID:America/Denver
BEGIN:STANDARD
TZNAME:MST
DTSTART:20301103T020000
TZOFFSETFROM:-0600
TZOFFSETTO:-0700
RDATE:20311102T020000
RDATE:20321107T020000
END:STANDARD
BEGIN:DAYLIGHT
TZNAME:MDT
DTSTART:20310309T020000
TZOFFSETFROM:-0700
TZOFFSETTO:-0600
RDATE:20320314T020000
END:DAYLIGHT
END:VTIMEZONE
BEGIN:VEVENT
UID:6cc01a12-986c-40f3-87fd-86ba8574ebf8
DTSTAMP:20260425T105058Z
DESCRIPTION:Join us every Monday and Thursday at the Red Mountain Senior Ce
 nter for Diamond Art! Diamond Art is a relaxing artform that allows you to
  make beautiful pictures\, dot by dot.
DTSTART;TZID=America/Denver:20310828T123000
DTEND;TZID=America/Denver:20310828T150000
LOCATION:7550 East Adobe Street\, Mesa\, AZ 85207 US
SUMMARY:Diamond Art
END:VEVENT
END:VCALENDAR
