BEGIN:VCALENDAR
VERSION:2.0
PRODID:-//www.asteraz.org//NONSGML kigkonsult.se iCalcreator 2.30.10//
CALSCALE:GREGORIAN
METHOD:PUBLISH
UID:a99e3a73-b2cb-4682-82e3-be5a2e8b3ab6
X-WR-CALDESC:FREE blood pressure screenings are offered at Aster's Downtown
  Senior Center every Thursday to all participants. Learn your numbers to b
 etter manage your health!
X-WR-RELCALID:fccb40476afd3662efb92c0cb2cf1d3b
X-WR-TIMEZONE:America/Denver
BEGIN:VTIMEZONE
TZID:America/Denver
BEGIN:STANDARD
TZNAME:MST
DTSTART:20301103T020000
TZOFFSETFROM:-0600
TZOFFSETTO:-0700
RDATE:20311102T020000
RDATE:20321107T020000
END:STANDARD
BEGIN:DAYLIGHT
TZNAME:MDT
DTSTART:20310309T020000
TZOFFSETFROM:-0700
TZOFFSETTO:-0600
RDATE:20320314T020000
END:DAYLIGHT
END:VTIMEZONE
BEGIN:VEVENT
UID:f4807ba5-9aa6-4a51-9cc6-902c1ea043a1
DTSTAMP:20260425T105559Z
DESCRIPTION:FREE blood pressure screenings are offered at Aster's Downtown 
 Senior Center every Thursday to all participants. Learn your numbers to be
 tter manage your health!
DTSTART;TZID=America/Denver:20310828T100000
DTEND;TZID=America/Denver:20310828T110000
LOCATION:247 N. Macdonald Street\, Mesa\, AZ 85201 US
SUMMARY:Blood pressure screenings
END:VEVENT
END:VCALENDAR
