BEGIN:VCALENDAR
VERSION:2.0
PRODID:-//www.asteraz.org//NONSGML kigkonsult.se iCalcreator 2.30.10//
CALSCALE:GREGORIAN
METHOD:PUBLISH
UID:105ffa4a-69bc-4b6e-bf83-a4d92e66b702
X-WR-CALDESC:Slip on your dancing shoes and dance the afternoon away! Enjoy
  live music. Capacity is limited. \n\nCost per person is $5.
X-WR-RELCALID:e67494e43bfcd7afdace1eedbd09cfca
X-WR-TIMEZONE:America/Denver
BEGIN:VTIMEZONE
TZID:America/Denver
BEGIN:STANDARD
TZNAME:MST
DTSTART:20301103T020000
TZOFFSETFROM:-0600
TZOFFSETTO:-0700
RDATE:20311102T020000
RDATE:20321107T020000
END:STANDARD
BEGIN:DAYLIGHT
TZNAME:MDT
DTSTART:20310309T020000
TZOFFSETFROM:-0700
TZOFFSETTO:-0600
RDATE:20320314T020000
END:DAYLIGHT
END:VTIMEZONE
BEGIN:VEVENT
UID:cf48afe2-8a28-4b29-94d1-ff4efe1ecd22
DTSTAMP:20260425T105350Z
DESCRIPTION:Slip on your dancing shoes and dance the afternoon away! Enjoy 
 live music. Capacity is limited. \n\nCost per person is $5.
DTSTART;TZID=America/Denver:20310827T130000
DTEND;TZID=America/Denver:20310827T150000
LOCATION:Red Mountain Senior Center
SUMMARY:RM Dance Party
END:VEVENT
END:VCALENDAR
