BEGIN:VCALENDAR
VERSION:2.0
PRODID:-//www.asteraz.org//NONSGML kigkonsult.se iCalcreator 2.30.10//
CALSCALE:GREGORIAN
METHOD:PUBLISH
UID:0ffa7188-87d8-4b95-8ee0-912be8c77346
X-WR-CALDESC:Join us for a fun game of Canasta every Wednesday and Friday a
 fternoon at the Red Mountain Senior Center.
X-WR-RELCALID:fdf7a4ffe17572d824027b1a6ed473d1
X-WR-TIMEZONE:America/Denver
BEGIN:VTIMEZONE
TZID:America/Denver
BEGIN:STANDARD
TZNAME:MST
DTSTART:20301103T020000
TZOFFSETFROM:-0600
TZOFFSETTO:-0700
RDATE:20311102T020000
RDATE:20321107T020000
END:STANDARD
BEGIN:DAYLIGHT
TZNAME:MDT
DTSTART:20310309T020000
TZOFFSETFROM:-0700
TZOFFSETTO:-0600
RDATE:20320314T020000
END:DAYLIGHT
END:VTIMEZONE
BEGIN:VEVENT
UID:04c44c61-e355-4f7c-9a9f-c924edb8104f
DTSTAMP:20260425T105059Z
DESCRIPTION:Join us for a fun game of Canasta every Wednesday and Friday af
 ternoon at the Red Mountain Senior Center.
DTSTART;TZID=America/Denver:20310827T123000
DTEND;TZID=America/Denver:20310827T150000
LOCATION:7550 East Adobe Street\, Mesa\, AZ 85207 US
SUMMARY:Canasta
END:VEVENT
END:VCALENDAR
