BEGIN:VCALENDAR
VERSION:2.0
PRODID:-//www.asteraz.org//NONSGML kigkonsult.se iCalcreator 2.30.10//
CALSCALE:GREGORIAN
METHOD:PUBLISH
UID:c50b3c99-23f4-414a-b8a7-f41328c6a31b
X-WR-CALDESC:Our female participants come together for friendship & fun eve
 ry first and third Wednesday of the month.
X-WR-RELCALID:c6622793cde455d26de13db9da2228bc
X-WR-TIMEZONE:America/Denver
BEGIN:VTIMEZONE
TZID:America/Denver
BEGIN:STANDARD
TZNAME:MST
DTSTART:20301103T020000
TZOFFSETFROM:-0600
TZOFFSETTO:-0700
RDATE:20311102T020000
RDATE:20321107T020000
END:STANDARD
BEGIN:DAYLIGHT
TZNAME:MDT
DTSTART:20310309T020000
TZOFFSETFROM:-0700
TZOFFSETTO:-0600
RDATE:20320314T020000
END:DAYLIGHT
END:VTIMEZONE
BEGIN:VEVENT
UID:24c2c431-c19a-48fc-a850-6163571c0b83
DTSTAMP:20260425T105848Z
DESCRIPTION:Our female participants come together for friendship & fun ever
 y first and third Wednesday of the month.
DTSTART;TZID=America/Denver:20310827T093000
DTEND;TZID=America/Denver:20310827T103000
LOCATION:7550 East Adobe Street\, Mesa\, AZ 85207 US
SUMMARY:The Golden Gals
END:VEVENT
END:VCALENDAR
