BEGIN:VCALENDAR
VERSION:2.0
PRODID:-//www.asteraz.org//NONSGML kigkonsult.se iCalcreator 2.30.10//
CALSCALE:GREGORIAN
METHOD:PUBLISH
UID:c48c5d92-471b-4d78-8107-3e87eb3720f6
X-WR-CALDESC:Learn about events and locations throughout history.\n\nCapaci
 ty is limited\, so RSVP to the Center today.
X-WR-RELCALID:e9427187348e50a31f47145efc4c05f4
X-WR-TIMEZONE:America/Denver
BEGIN:VTIMEZONE
TZID:America/Denver
BEGIN:STANDARD
TZNAME:MST
DTSTART:20301103T020000
TZOFFSETFROM:-0600
TZOFFSETTO:-0700
RDATE:20311102T020000
RDATE:20321107T020000
END:STANDARD
BEGIN:DAYLIGHT
TZNAME:MDT
DTSTART:20310309T020000
TZOFFSETFROM:-0700
TZOFFSETTO:-0600
RDATE:20320314T020000
END:DAYLIGHT
END:VTIMEZONE
BEGIN:VEVENT
UID:45ee8d37-8269-4f45-8511-875b0478208d
DTSTAMP:20260425T103429Z
DESCRIPTION:Learn about events and locations throughout history.\n\nCapacit
 y is limited\, so RSVP to the Center today.
DTSTART;TZID=America/Denver:20310826T140000
DTEND;TZID=America/Denver:20310826T150000
LOCATION:247 N. Macdonald Street\, Mesa\, AZ 85201 US
SUMMARY:History Class
END:VEVENT
END:VCALENDAR
