BEGIN:VCALENDAR
VERSION:2.0
PRODID:-//www.asteraz.org//NONSGML kigkonsult.se iCalcreator 2.30.10//
CALSCALE:GREGORIAN
METHOD:PUBLISH
UID:3d22c84e-3e2e-4fa4-a46d-e60b506a845e
X-WR-CALDESC:Double Deck Pinochle is a fun trick-taking game played by 4 pl
 ayers. It combines a lot of fun elements like strategy\, memory and teamwo
 rk and requires an 80-card deck. It's open to beginners & experts!
X-WR-RELCALID:b6e767469fdf941d05269f6938ce38a7
X-WR-TIMEZONE:America/Denver
BEGIN:VTIMEZONE
TZID:America/Denver
BEGIN:STANDARD
TZNAME:MST
DTSTART:20301103T020000
TZOFFSETFROM:-0600
TZOFFSETTO:-0700
RDATE:20311102T020000
RDATE:20321107T020000
END:STANDARD
BEGIN:DAYLIGHT
TZNAME:MDT
DTSTART:20310309T020000
TZOFFSETFROM:-0700
TZOFFSETTO:-0600
RDATE:20320314T020000
END:DAYLIGHT
END:VTIMEZONE
BEGIN:VEVENT
UID:63c46a7e-86df-47aa-ae3d-11aa2d705d19
DTSTAMP:20260425T105349Z
DESCRIPTION:Double Deck Pinochle is a fun trick-taking game played by 4 pla
 yers. It combines a lot of fun elements like strategy\, memory and teamwor
 k and requires an 80-card deck. It's open to beginners & experts!
DTSTART;TZID=America/Denver:20310826T123000
DTEND;TZID=America/Denver:20310826T153000
LOCATION:7550 East Adobe Street\, Mesa\, AZ 85207 US
SUMMARY:Double Deck Pinochle
END:VEVENT
END:VCALENDAR
