BEGIN:VCALENDAR
VERSION:2.0
PRODID:-//www.asteraz.org//NONSGML kigkonsult.se iCalcreator 2.30.10//
CALSCALE:GREGORIAN
METHOD:PUBLISH
UID:aa9ffe4d-0809-49d3-841a-e8378872d2c8
X-WR-CALDESC:Take a colorful journey into the world of art. Enjoy studying 
 the visual arts\, including painting\, sculpture\, architecture\, and othe
 r forms through the lens of the 'Art in Action' class series.
X-WR-RELCALID:9fbf7f71f8942387d9311d96fe5f17fe
X-WR-TIMEZONE:America/Denver
BEGIN:VTIMEZONE
TZID:America/Denver
BEGIN:STANDARD
TZNAME:MST
DTSTART:20301103T020000
TZOFFSETFROM:-0600
TZOFFSETTO:-0700
RDATE:20311102T020000
RDATE:20321107T020000
END:STANDARD
BEGIN:DAYLIGHT
TZNAME:MDT
DTSTART:20310309T020000
TZOFFSETFROM:-0700
TZOFFSETTO:-0600
RDATE:20320314T020000
END:DAYLIGHT
END:VTIMEZONE
BEGIN:VEVENT
UID:14be10b3-981d-42da-9f1f-4f7d74ffc494
DTSTAMP:20260425T105216Z
DESCRIPTION:Take a colorful journey into the world of art. Enjoy studying t
 he visual arts\, including painting\, sculpture\, architecture\, and other
  forms through the lens of the 'Art in Action' class series.
DTSTART;TZID=America/Denver:20310826T093000
DTEND;TZID=America/Denver:20310826T103000
LOCATION:247 N. Macdonald Street\, Mesa\, AZ 85201 US
SUMMARY:Art in Action
END:VEVENT
END:VCALENDAR
