BEGIN:VCALENDAR
VERSION:2.0
PRODID:-//www.asteraz.org//NONSGML kigkonsult.se iCalcreator 2.30.10//
CALSCALE:GREGORIAN
METHOD:PUBLISH
UID:5f9e2155-8c9c-4b9b-a24c-18e7380662aa
X-WR-CALDESC:Facilitated by EMPACT. A bereavement support group for seniors
 . Connect with others who are grieving the loss of a loved one and connect
  with education and resources.
X-WR-RELCALID:09c976e131034cacee5a61b633118497
X-WR-TIMEZONE:America/Denver
BEGIN:VTIMEZONE
TZID:America/Denver
BEGIN:STANDARD
TZNAME:MST
DTSTART:20301103T020000
TZOFFSETFROM:-0600
TZOFFSETTO:-0700
RDATE:20311102T020000
RDATE:20321107T020000
END:STANDARD
BEGIN:DAYLIGHT
TZNAME:MDT
DTSTART:20310309T020000
TZOFFSETFROM:-0700
TZOFFSETTO:-0600
RDATE:20320314T020000
END:DAYLIGHT
END:VTIMEZONE
BEGIN:VEVENT
UID:4b6945ca-0a08-40ea-861b-fb8126925441
DTSTAMP:20260425T105040Z
DESCRIPTION:Facilitated by EMPACT. A bereavement support group for seniors.
  Connect with others who are grieving the loss of a loved one and connect 
 with education and resources.
DTSTART;TZID=America/Denver:20310822T100000
DTEND;TZID=America/Denver:20310822T110000
LOCATION:7550 East Adobe Street\, Mesa\, AZ 85207 US
SUMMARY:Grief and Loss Support Group
END:VEVENT
END:VCALENDAR
