BEGIN:VCALENDAR
VERSION:2.0
PRODID:-//www.asteraz.org//NONSGML kigkonsult.se iCalcreator 2.30.10//
CALSCALE:GREGORIAN
METHOD:PUBLISH
UID:ba5ce262-1b33-439e-8420-3133aa625a55
X-WR-CALDESC:Learn gentle movement and focused breathing exercises.
X-WR-RELCALID:e6c1afc8097eb6ceb3c3f46791da4d57
X-WR-TIMEZONE:America/Denver
BEGIN:VTIMEZONE
TZID:America/Denver
BEGIN:STANDARD
TZNAME:MST
DTSTART:20301103T020000
TZOFFSETFROM:-0600
TZOFFSETTO:-0700
RDATE:20311102T020000
RDATE:20321107T020000
END:STANDARD
BEGIN:DAYLIGHT
TZNAME:MDT
DTSTART:20310309T020000
TZOFFSETFROM:-0700
TZOFFSETTO:-0600
RDATE:20320314T020000
END:DAYLIGHT
END:VTIMEZONE
BEGIN:VEVENT
UID:602e0c68-b052-41b8-93bf-c88b6cb3a05d
DTSTAMP:20260425T105526Z
DESCRIPTION:Learn gentle movement and focused breathing exercises.
DTSTART;TZID=America/Denver:20310822T094500
DTEND;TZID=America/Denver:20310822T104500
LOCATION:Mesa Downtown
SUMMARY:DT Qigong
END:VEVENT
END:VCALENDAR
