BEGIN:VCALENDAR
VERSION:2.0
PRODID:-//www.asteraz.org//NONSGML kigkonsult.se iCalcreator 2.30.10//
CALSCALE:GREGORIAN
METHOD:PUBLISH
UID:55c81689-5810-48c9-b8e6-3de37f2323aa
X-WR-CALDESC:
X-WR-RELCALID:209b69eb65299b2eeb331ed917f8412d
X-WR-TIMEZONE:America/Denver
BEGIN:VTIMEZONE
TZID:America/Denver
BEGIN:STANDARD
TZNAME:MST
DTSTART:20301103T020000
TZOFFSETFROM:-0600
TZOFFSETTO:-0700
RDATE:20311102T020000
RDATE:20321107T020000
END:STANDARD
BEGIN:DAYLIGHT
TZNAME:MDT
DTSTART:20310309T020000
TZOFFSETFROM:-0700
TZOFFSETTO:-0600
RDATE:20320314T020000
END:DAYLIGHT
END:VTIMEZONE
BEGIN:VEVENT
UID:ba9cc74c-569c-469a-8190-a7c3b135ba89
DTSTAMP:20260425T105848Z
DESCRIPTION:
DTSTART;TZID=America/Denver:20310821T094500
DTEND;TZID=America/Denver:20310821T104500
LOCATION:Mesa Downtown
SUMMARY:DT Chair Yoga
END:VEVENT
END:VCALENDAR
