BEGIN:VCALENDAR
VERSION:2.0
PRODID:-//www.asteraz.org//NONSGML kigkonsult.se iCalcreator 2.30.10//
CALSCALE:GREGORIAN
METHOD:PUBLISH
UID:9f6d2a7f-34c6-4036-b321-cccd81e98383
X-WR-CALDESC:Enjoy adult coloring pages and listen to relaxing instrumental
  jazz every Thursday at the Red Mountain Senior Center.
X-WR-RELCALID:c62b0ec80a764ab8a1d8a25a9278054a
X-WR-TIMEZONE:America/Denver
BEGIN:VTIMEZONE
TZID:America/Denver
BEGIN:STANDARD
TZNAME:MST
DTSTART:20301103T020000
TZOFFSETFROM:-0600
TZOFFSETTO:-0700
RDATE:20311102T020000
RDATE:20321107T020000
END:STANDARD
BEGIN:DAYLIGHT
TZNAME:MDT
DTSTART:20310309T020000
TZOFFSETFROM:-0700
TZOFFSETTO:-0600
RDATE:20320314T020000
END:DAYLIGHT
END:VTIMEZONE
BEGIN:VEVENT
UID:53e19893-145a-4501-a178-e9952172553d
DTSTAMP:20260425T105509Z
DESCRIPTION:Enjoy adult coloring pages and listen to relaxing instrumental 
 jazz every Thursday at the Red Mountain Senior Center.
DTSTART;TZID=America/Denver:20310821T093000
DTEND;TZID=America/Denver:20310821T103000
LOCATION:7550 East Adobe Street\, Mesa\, AZ 85207 US
SUMMARY:Red Mountain Coloring Lounge
END:VEVENT
END:VCALENDAR
