BEGIN:VCALENDAR
VERSION:2.0
PRODID:-//www.asteraz.org//NONSGML kigkonsult.se iCalcreator 2.30.10//
CALSCALE:GREGORIAN
METHOD:PUBLISH
UID:72455472-471a-403c-b5cd-b56a068cfa79
X-WR-CALDESC:Dominoes\, puzzles\, board games\, cards\, & more! Join us at 
 the Mesa Downtown Senior Center every Thursday morning for lively conversa
 tion and fun games.
X-WR-RELCALID:6079b92bc54e9a8a1893d1af77e93c7f
X-WR-TIMEZONE:America/Denver
BEGIN:VTIMEZONE
TZID:America/Denver
BEGIN:STANDARD
TZNAME:MST
DTSTART:20301103T020000
TZOFFSETFROM:-0600
TZOFFSETTO:-0700
RDATE:20311102T020000
RDATE:20321107T020000
END:STANDARD
BEGIN:DAYLIGHT
TZNAME:MDT
DTSTART:20310309T020000
TZOFFSETFROM:-0700
TZOFFSETTO:-0600
RDATE:20320314T020000
END:DAYLIGHT
END:VTIMEZONE
BEGIN:VEVENT
UID:2c3f30ff-b54e-4afb-b92f-5ccd99ac04e3
DTSTAMP:20260425T104409Z
DESCRIPTION:Dominoes\, puzzles\, board games\, cards\, & more! Join us at t
 he Mesa Downtown Senior Center every Thursday morning for lively conversat
 ion and fun games.
DTSTART;TZID=America/Denver:20310821T093000
DTEND;TZID=America/Denver:20310821T103000
LOCATION:247 N. Macdonald Street\, Mesa\, AL 85201 US
SUMMARY:Fun & Games
END:VEVENT
END:VCALENDAR
