BEGIN:VCALENDAR
VERSION:2.0
PRODID:-//www.asteraz.org//NONSGML kigkonsult.se iCalcreator 2.30.10//
CALSCALE:GREGORIAN
METHOD:PUBLISH
UID:50efbdb1-fa3a-4ce9-9a58-1f2f513037a4
X-WR-CALDESC:Join us to learn about bereavement and how to develop healthy 
 coping skills to deal with your loss. The group will provide support and h
 ope. Capacity is limited.\n\nFacilitated by EMPACT.
X-WR-RELCALID:b583380352fb23b7ab71a28e6d461f70
X-WR-TIMEZONE:America/Denver
BEGIN:VTIMEZONE
TZID:America/Denver
BEGIN:STANDARD
TZNAME:MST
DTSTART:20301103T020000
TZOFFSETFROM:-0600
TZOFFSETTO:-0700
RDATE:20311102T020000
RDATE:20321107T020000
END:STANDARD
BEGIN:DAYLIGHT
TZNAME:MDT
DTSTART:20310309T020000
TZOFFSETFROM:-0700
TZOFFSETTO:-0600
RDATE:20320314T020000
END:DAYLIGHT
END:VTIMEZONE
BEGIN:VEVENT
UID:bc621803-2d0f-42a0-aa29-e4fa3790b169
DTSTAMP:20260425T104835Z
DESCRIPTION:Join us to learn about bereavement and how to develop healthy c
 oping skills to deal with your loss. The group will provide support and ho
 pe. Capacity is limited.\n\nFacilitated by EMPACT.
DTSTART;TZID=America/Denver:20310820T130000
DTEND;TZID=America/Denver:20310820T140000
LOCATION:Mesa Downtown Senior Center
SUMMARY:DT Grief & Loss Support
END:VEVENT
END:VCALENDAR
