BEGIN:VCALENDAR
VERSION:2.0
PRODID:-//www.asteraz.org//NONSGML kigkonsult.se iCalcreator 2.30.10//
CALSCALE:GREGORIAN
METHOD:PUBLISH
UID:da41610f-4002-4221-a3a6-7e3d91b78fca
X-WR-CALDESC:Join us every Wednesday afternoon to play card and board games
 . Which games? You'll have to join us to find out!
X-WR-RELCALID:f24fbf0c3ecfb0243746952afdd42788
X-WR-TIMEZONE:America/Denver
BEGIN:VTIMEZONE
TZID:America/Denver
BEGIN:STANDARD
TZNAME:MST
DTSTART:20301103T020000
TZOFFSETFROM:-0600
TZOFFSETTO:-0700
RDATE:20311102T020000
RDATE:20321107T020000
END:STANDARD
BEGIN:DAYLIGHT
TZNAME:MDT
DTSTART:20310309T020000
TZOFFSETFROM:-0700
TZOFFSETTO:-0600
RDATE:20320314T020000
END:DAYLIGHT
END:VTIMEZONE
BEGIN:VEVENT
UID:1c735134-1498-4ab7-b311-1aee24b66038
DTSTAMP:20260425T105433Z
DESCRIPTION:Join us every Wednesday afternoon to play card and board games.
  Which games? You'll have to join us to find out!
DTSTART;TZID=America/Denver:20310820T123000
DTEND;TZID=America/Denver:20310820T150000
LOCATION:7550 East Adobe Street\, Mesa\, AZ 85207 US
SUMMARY:Whatever Games We Play
END:VEVENT
END:VCALENDAR
