BEGIN:VCALENDAR
VERSION:2.0
PRODID:-//www.asteraz.org//NONSGML kigkonsult.se iCalcreator 2.30.10//
CALSCALE:GREGORIAN
METHOD:PUBLISH
UID:5e8255d9-4c03-4caa-9e24-b89703d92cd4
X-WR-CALDESC:A weekly group for people with hearing issues to chat and shar
 e their experiences.
X-WR-RELCALID:a41c250d71687f8fe88eb5289c7ade60
X-WR-TIMEZONE:America/Denver
BEGIN:VTIMEZONE
TZID:America/Denver
BEGIN:STANDARD
TZNAME:MST
DTSTART:20301103T020000
TZOFFSETFROM:-0600
TZOFFSETTO:-0700
RDATE:20311102T020000
RDATE:20321107T020000
END:STANDARD
BEGIN:DAYLIGHT
TZNAME:MDT
DTSTART:20310309T020000
TZOFFSETFROM:-0700
TZOFFSETTO:-0600
RDATE:20320314T020000
END:DAYLIGHT
END:VTIMEZONE
BEGIN:VEVENT
UID:96bcb23b-3316-489e-b1ee-16a6c9ca19df
DTSTAMP:20260425T103431Z
DESCRIPTION:A weekly group for people with hearing issues to chat and share
  their experiences.
DTSTART;TZID=America/Denver:20310819T103000
DTEND;TZID=America/Denver:20310819T150000
LOCATION:7550 East Adobe Street\, Mesa\, AZ 85207 US
SUMMARY:Deaf Support Group
END:VEVENT
END:VCALENDAR
