BEGIN:VCALENDAR
VERSION:2.0
PRODID:-//www.asteraz.org//NONSGML kigkonsult.se iCalcreator 2.30.10//
CALSCALE:GREGORIAN
METHOD:PUBLISH
UID:19a1cb21-1d35-4fe8-b0d0-430ea3170381
X-WR-CALDESC:Enjoy good company while crafting creative pieces.
X-WR-RELCALID:d116fef48470412cb0c9b62aee0557f0
X-WR-TIMEZONE:America/Denver
BEGIN:VTIMEZONE
TZID:America/Denver
BEGIN:STANDARD
TZNAME:MST
DTSTART:20301103T020000
TZOFFSETFROM:-0600
TZOFFSETTO:-0700
RDATE:20311102T020000
RDATE:20321107T020000
END:STANDARD
BEGIN:DAYLIGHT
TZNAME:MDT
DTSTART:20310309T020000
TZOFFSETFROM:-0700
TZOFFSETTO:-0600
RDATE:20320314T020000
END:DAYLIGHT
END:VTIMEZONE
BEGIN:VEVENT
UID:d1312ddf-9b53-4709-ad39-66ccd36f5b2f
DTSTAMP:20260425T110050Z
DESCRIPTION:Enjoy good company while crafting creative pieces.
DTSTART;TZID=America/Denver:20310819T083000
DTEND;TZID=America/Denver:20310819T120000
LOCATION:7550 East Adobe Street\, Mesa\, AZ 85207 US
SUMMARY:Stitch & Chat at the Aster Red Mountain Senior Center
END:VEVENT
END:VCALENDAR
