BEGIN:VCALENDAR
VERSION:2.0
PRODID:-//www.asteraz.org//NONSGML kigkonsult.se iCalcreator 2.30.10//
CALSCALE:GREGORIAN
METHOD:PUBLISH
UID:3cfd8e48-3ffd-4e5e-88d1-aea82b53a3e5
X-WR-CALDESC:Join us every Monday morning for Mahjong for beginners at the 
 Mesa Red Mountain Senior Center.
X-WR-RELCALID:5425339f0553ffbe3a80db460a1099be
X-WR-TIMEZONE:America/Denver
BEGIN:VTIMEZONE
TZID:America/Denver
BEGIN:STANDARD
TZNAME:MST
DTSTART:20301103T020000
TZOFFSETFROM:-0600
TZOFFSETTO:-0700
RDATE:20311102T020000
RDATE:20321107T020000
END:STANDARD
BEGIN:DAYLIGHT
TZNAME:MDT
DTSTART:20310309T020000
TZOFFSETFROM:-0700
TZOFFSETTO:-0600
RDATE:20320314T020000
END:DAYLIGHT
END:VTIMEZONE
BEGIN:VEVENT
UID:99394944-01cf-4c25-adb5-81b1389f915d
DTSTAMP:20260425T105434Z
DESCRIPTION:Join us every Monday morning for Mahjong for beginners at the M
 esa Red Mountain Senior Center.
DTSTART;TZID=America/Denver:20310818T093000
DTEND;TZID=America/Denver:20310818T120000
LOCATION:7550 East Adobe Street\, Mesa\, AZ 85207 US
SUMMARY:Mahjong for Beginners
END:VEVENT
END:VCALENDAR
