BEGIN:VCALENDAR
VERSION:2.0
PRODID:-//www.asteraz.org//NONSGML kigkonsult.se iCalcreator 2.30.10//
CALSCALE:GREGORIAN
METHOD:PUBLISH
UID:cbfc108b-0e76-4977-9edb-7ef6cfbb2f3c
X-WR-CALDESC:Learn gentle movement and focused breathing exercises.
X-WR-RELCALID:eb911b58a85be0b130f5de65d810ba60
X-WR-TIMEZONE:America/Denver
BEGIN:VTIMEZONE
TZID:America/Denver
BEGIN:STANDARD
TZNAME:MST
DTSTART:20301103T020000
TZOFFSETFROM:-0600
TZOFFSETTO:-0700
RDATE:20311102T020000
RDATE:20321107T020000
END:STANDARD
BEGIN:DAYLIGHT
TZNAME:MDT
DTSTART:20310309T020000
TZOFFSETFROM:-0700
TZOFFSETTO:-0600
RDATE:20320314T020000
END:DAYLIGHT
END:VTIMEZONE
BEGIN:VEVENT
UID:d47e80c5-17de-4d33-8021-92f9c2c864bd
DTSTAMP:20260425T105553Z
DESCRIPTION:Learn gentle movement and focused breathing exercises.
DTSTART;TZID=America/Denver:20310815T094500
DTEND;TZID=America/Denver:20310815T104500
LOCATION:Mesa Downtown
SUMMARY:DT Qigong
END:VEVENT
END:VCALENDAR
