BEGIN:VCALENDAR
VERSION:2.0
PRODID:-//www.asteraz.org//NONSGML kigkonsult.se iCalcreator 2.30.10//
CALSCALE:GREGORIAN
METHOD:PUBLISH
UID:1f2878c7-09de-45f7-83e7-e5517a265334
X-WR-CALDESC:Come enjoy a good film and fresh popcorn at Aster's Movie Club
 .\nMovies are free to attend with complimentary popcorn. Additional snacks
  are available for purchase in the Café.
X-WR-RELCALID:a49d0a5577bd0b756a686a9d3344a8e7
X-WR-TIMEZONE:America/Denver
BEGIN:VTIMEZONE
TZID:America/Denver
BEGIN:STANDARD
TZNAME:MST
DTSTART:20301103T020000
TZOFFSETFROM:-0600
TZOFFSETTO:-0700
RDATE:20311102T020000
RDATE:20321107T020000
END:STANDARD
BEGIN:DAYLIGHT
TZNAME:MDT
DTSTART:20310309T020000
TZOFFSETFROM:-0700
TZOFFSETTO:-0600
RDATE:20320314T020000
END:DAYLIGHT
END:VTIMEZONE
BEGIN:VEVENT
UID:dba748a9-c8f0-442a-8902-212f20e62e81
DTSTAMP:20260425T110050Z
DESCRIPTION:Come enjoy a good film and fresh popcorn at Aster's Movie Club.
 \nMovies are free to attend with complimentary popcorn. Additional snacks 
 are available for purchase in the Café.
DTSTART;TZID=America/Denver:20310814T123000
DTEND;TZID=America/Denver:20310814T150000
LOCATION:Mesa Downtown
SUMMARY:DT Movie Club
END:VEVENT
END:VCALENDAR
