BEGIN:VCALENDAR
VERSION:2.0
PRODID:-//www.asteraz.org//NONSGML kigkonsult.se iCalcreator 2.30.10//
CALSCALE:GREGORIAN
METHOD:PUBLISH
UID:100da590-36d5-4a32-bee7-1d51f28fc332
X-WR-CALDESC:Create beautiful art facilitated by Mesa Art League. \n\nThe M
 esa Art League offers a Veterans' Outreach Art Program to Veterans and the
 ir families.\n\nMeets on the 1st\, 2nd and 4th Thursday of the Month.\n\n
X-WR-RELCALID:b12763c7fc0bc9c2e023b36d286803f9
X-WR-TIMEZONE:America/Denver
BEGIN:VTIMEZONE
TZID:America/Denver
BEGIN:STANDARD
TZNAME:MST
DTSTART:20301103T020000
TZOFFSETFROM:-0600
TZOFFSETTO:-0700
RDATE:20311102T020000
RDATE:20321107T020000
END:STANDARD
BEGIN:DAYLIGHT
TZNAME:MDT
DTSTART:20310309T020000
TZOFFSETFROM:-0700
TZOFFSETTO:-0600
RDATE:20320314T020000
END:DAYLIGHT
END:VTIMEZONE
BEGIN:VEVENT
UID:bb79c2d5-9fd3-44bb-8604-a14d719fcefa
DTSTAMP:20260425T105525Z
DESCRIPTION:Create beautiful art facilitated by Mesa Art League. \n\nThe Me
 sa Art League offers a Veterans' Outreach Art Program to Veterans and thei
 r families.\n\nMeets on the 1st\, 2nd and 4th Thursday of the Month.\n\n
DTSTART;TZID=America/Denver:20310814T100000
DTEND;TZID=America/Denver:20310814T110000
LOCATION:Mesa Downtown
SUMMARY:DT Veterans Art
END:VEVENT
END:VCALENDAR
