BEGIN:VCALENDAR
VERSION:2.0
PRODID:-//www.asteraz.org//NONSGML kigkonsult.se iCalcreator 2.30.10//
CALSCALE:GREGORIAN
METHOD:PUBLISH
UID:00de387e-27f5-45eb-b000-da4678407608
X-WR-CALDESC:FREE blood pressure screenings are offered at Aster's Downtown
  Senior Center every Thursday to all participants. Learn your numbers to b
 etter manage your health!
X-WR-RELCALID:3a67fd7fbe2d483021180fbc0362da0b
X-WR-TIMEZONE:America/Denver
BEGIN:VTIMEZONE
TZID:America/Denver
BEGIN:STANDARD
TZNAME:MST
DTSTART:20301103T020000
TZOFFSETFROM:-0600
TZOFFSETTO:-0700
RDATE:20311102T020000
RDATE:20321107T020000
END:STANDARD
BEGIN:DAYLIGHT
TZNAME:MDT
DTSTART:20310309T020000
TZOFFSETFROM:-0700
TZOFFSETTO:-0600
RDATE:20320314T020000
END:DAYLIGHT
END:VTIMEZONE
BEGIN:VEVENT
UID:f74302f2-ace4-44f0-902e-f2375c94c95d
DTSTAMP:20260425T105645Z
DESCRIPTION:FREE blood pressure screenings are offered at Aster's Downtown 
 Senior Center every Thursday to all participants. Learn your numbers to be
 tter manage your health!
DTSTART;TZID=America/Denver:20310814T100000
DTEND;TZID=America/Denver:20310814T110000
LOCATION:247 N. Macdonald Street\, Mesa\, AZ 85201 US
SUMMARY:Blood pressure screenings
END:VEVENT
END:VCALENDAR
