BEGIN:VCALENDAR
VERSION:2.0
PRODID:-//www.asteraz.org//NONSGML kigkonsult.se iCalcreator 2.30.10//
CALSCALE:GREGORIAN
METHOD:PUBLISH
UID:67630eed-b9fc-4fb6-8bbd-a7d853b9052e
X-WR-CALDESC:
X-WR-RELCALID:beda146eed516dfa64e159366ccc5186
X-WR-TIMEZONE:America/Denver
BEGIN:VTIMEZONE
TZID:America/Denver
BEGIN:STANDARD
TZNAME:MST
DTSTART:20301103T020000
TZOFFSETFROM:-0600
TZOFFSETTO:-0700
RDATE:20311102T020000
RDATE:20321107T020000
END:STANDARD
BEGIN:DAYLIGHT
TZNAME:MDT
DTSTART:20310309T020000
TZOFFSETFROM:-0700
TZOFFSETTO:-0600
RDATE:20320314T020000
END:DAYLIGHT
END:VTIMEZONE
BEGIN:VEVENT
UID:590094d4-0457-4e58-a1fa-fff6a59e23db
DTSTAMP:20260425T105912Z
DESCRIPTION:
DTSTART;TZID=America/Denver:20310814T094500
DTEND;TZID=America/Denver:20310814T104500
LOCATION:Mesa Downtown
SUMMARY:DT Chair Yoga
END:VEVENT
END:VCALENDAR
