BEGIN:VCALENDAR
VERSION:2.0
PRODID:-//www.asteraz.org//NONSGML kigkonsult.se iCalcreator 2.30.10//
CALSCALE:GREGORIAN
METHOD:PUBLISH
UID:c1489b54-82ed-432f-9d3f-9ab500a3ab08
X-WR-CALDESC:Our female participants come together for friendship & fun eve
 ry first and third Wednesday of the month.
X-WR-RELCALID:bb63b0ffc7b838f5168bee215db1decf
X-WR-TIMEZONE:America/Denver
BEGIN:VTIMEZONE
TZID:America/Denver
BEGIN:STANDARD
TZNAME:MST
DTSTART:20301103T020000
TZOFFSETFROM:-0600
TZOFFSETTO:-0700
RDATE:20311102T020000
RDATE:20321107T020000
END:STANDARD
BEGIN:DAYLIGHT
TZNAME:MDT
DTSTART:20310309T020000
TZOFFSETFROM:-0700
TZOFFSETTO:-0600
RDATE:20320314T020000
END:DAYLIGHT
END:VTIMEZONE
BEGIN:VEVENT
UID:f269cdb5-cc81-4c58-aac1-20ef84ce2a78
DTSTAMP:20260425T105803Z
DESCRIPTION:Our female participants come together for friendship & fun ever
 y first and third Wednesday of the month.
DTSTART;TZID=America/Denver:20310813T093000
DTEND;TZID=America/Denver:20310813T103000
LOCATION:7550 East Adobe Street\, Mesa\, AZ 85207 US
SUMMARY:The Golden Gals
END:VEVENT
END:VCALENDAR
