BEGIN:VCALENDAR
VERSION:2.0
PRODID:-//www.asteraz.org//NONSGML kigkonsult.se iCalcreator 2.30.10//
CALSCALE:GREGORIAN
METHOD:PUBLISH
UID:1478e325-74ab-4d5f-a314-2acbd5737ade
X-WR-CALDESC:Learn about events and locations throughout history.\n\nCapaci
 ty is limited\, so RSVP to the Center today.
X-WR-RELCALID:cb98814a4d162b763f83df3e0ab50583
X-WR-TIMEZONE:America/Denver
BEGIN:VTIMEZONE
TZID:America/Denver
BEGIN:STANDARD
TZNAME:MST
DTSTART:20301103T020000
TZOFFSETFROM:-0600
TZOFFSETTO:-0700
RDATE:20311102T020000
RDATE:20321107T020000
END:STANDARD
BEGIN:DAYLIGHT
TZNAME:MDT
DTSTART:20310309T020000
TZOFFSETFROM:-0700
TZOFFSETTO:-0600
RDATE:20320314T020000
END:DAYLIGHT
END:VTIMEZONE
BEGIN:VEVENT
UID:749680d0-526b-427f-ace9-2596a81e6c20
DTSTAMP:20260425T104302Z
DESCRIPTION:Learn about events and locations throughout history.\n\nCapacit
 y is limited\, so RSVP to the Center today.
DTSTART;TZID=America/Denver:20310812T140000
DTEND;TZID=America/Denver:20310812T150000
LOCATION:247 N. Macdonald Street\, Mesa\, AZ 85201 US
SUMMARY:History Class
END:VEVENT
END:VCALENDAR
