BEGIN:VCALENDAR
VERSION:2.0
PRODID:-//www.asteraz.org//NONSGML kigkonsult.se iCalcreator 2.30.10//
CALSCALE:GREGORIAN
METHOD:PUBLISH
UID:3153ce3d-acbc-498e-9446-273241d4e918
X-WR-CALDESC:Join us every Tuesday and Thursday in the Mesa Downtown Senior
  Center fitness center to connect with a fitness trainer to help you stay 
 in shape and reach your fitness goals.
X-WR-RELCALID:16e08443bf3901808c6dd367d355c3ed
X-WR-TIMEZONE:America/Denver
BEGIN:VTIMEZONE
TZID:America/Denver
BEGIN:STANDARD
TZNAME:MST
DTSTART:20301103T020000
TZOFFSETFROM:-0600
TZOFFSETTO:-0700
RDATE:20311102T020000
RDATE:20321107T020000
END:STANDARD
BEGIN:DAYLIGHT
TZNAME:MDT
DTSTART:20310309T020000
TZOFFSETFROM:-0700
TZOFFSETTO:-0600
RDATE:20320314T020000
END:DAYLIGHT
END:VTIMEZONE
BEGIN:VEVENT
UID:6b8bf14f-b406-47df-9054-af0d086d6bb7
DTSTAMP:20260425T105559Z
DESCRIPTION:Join us every Tuesday and Thursday in the Mesa Downtown Senior 
 Center fitness center to connect with a fitness trainer to help you stay i
 n shape and reach your fitness goals.
DTSTART;TZID=America/Denver:20310812T103000
DTEND;TZID=America/Denver:20310812T140000
LOCATION:247 N. Macdonald Street\, Mesa\, AZ 85201 US
SUMMARY:Fitness Trainer
END:VEVENT
END:VCALENDAR
