BEGIN:VCALENDAR
VERSION:2.0
PRODID:-//www.asteraz.org//NONSGML kigkonsult.se iCalcreator 2.30.10//
CALSCALE:GREGORIAN
METHOD:PUBLISH
UID:ce51bbde-335c-4457-a95e-f1fa0a2fe0cb
X-WR-CALDESC:Get your morning moving in the right direction with some exerc
 ise! Form new friendships and a healthy routine with relaxing Morning Move
 ment.\n\nThis activity has a $2 fee.
X-WR-RELCALID:24db406802c7ef190710974d445ed6e7
X-WR-TIMEZONE:America/Denver
BEGIN:VTIMEZONE
TZID:America/Denver
BEGIN:STANDARD
TZNAME:MST
DTSTART:20301103T020000
TZOFFSETFROM:-0600
TZOFFSETTO:-0700
RDATE:20311102T020000
RDATE:20321107T020000
END:STANDARD
BEGIN:DAYLIGHT
TZNAME:MDT
DTSTART:20310309T020000
TZOFFSETFROM:-0700
TZOFFSETTO:-0600
RDATE:20320314T020000
END:DAYLIGHT
END:VTIMEZONE
BEGIN:VEVENT
UID:e3d2af86-1461-4743-b014-d3b2d7aa2536
DTSTAMP:20260425T110043Z
DESCRIPTION:Get your morning moving in the right direction with some exerci
 se! Form new friendships and a healthy routine with relaxing Morning Movem
 ent.\n\nThis activity has a $2 fee.
DTSTART;TZID=America/Denver:20310812T081500
DTEND;TZID=America/Denver:20310812T091500
LOCATION:247 N. Macdonald Street\, Mesa\, AZ 85201 US
SUMMARY:Morning Movement at the Downtown Senior Center
END:VEVENT
END:VCALENDAR
