BEGIN:VCALENDAR
VERSION:2.0
PRODID:-//www.asteraz.org//NONSGML kigkonsult.se iCalcreator 2.30.10//
CALSCALE:GREGORIAN
METHOD:PUBLISH
UID:170df37a-6de7-4a9b-a93c-bbfe2e8226bd
X-WR-CALDESC:Have fun singing golden-oldies or just watching others try in 
 this judgment free zone.
X-WR-RELCALID:f9e8a5ec75900f7eec2b29c56246841c
X-WR-TIMEZONE:America/Denver
BEGIN:VTIMEZONE
TZID:America/Denver
BEGIN:STANDARD
TZNAME:MST
DTSTART:20301103T020000
TZOFFSETFROM:-0600
TZOFFSETTO:-0700
RDATE:20311102T020000
RDATE:20321107T020000
END:STANDARD
BEGIN:DAYLIGHT
TZNAME:MDT
DTSTART:20310309T020000
TZOFFSETFROM:-0700
TZOFFSETTO:-0600
RDATE:20320314T020000
END:DAYLIGHT
END:VTIMEZONE
BEGIN:VEVENT
UID:856e8188-598f-41da-b759-f3b538212a5d
DTSTAMP:20260425T105727Z
DESCRIPTION:Have fun singing golden-oldies or just watching others try in t
 his judgment free zone.
DTSTART;TZID=America/Denver:20310811T123000
DTEND;TZID=America/Denver:20310811T133000
LOCATION:Mesa Downtown
SUMMARY:DT Karaoke Mondays
END:VEVENT
END:VCALENDAR
