BEGIN:VCALENDAR
VERSION:2.0
PRODID:-//www.asteraz.org//NONSGML kigkonsult.se iCalcreator 2.30.10//
CALSCALE:GREGORIAN
METHOD:PUBLISH
UID:84e6f44e-1938-495c-bcca-7eccebe811a6
X-WR-CALDESC:Create magical diamond art!
X-WR-RELCALID:5afa4bc1db3454bb18ff71baebdb6776
X-WR-TIMEZONE:America/Denver
BEGIN:VTIMEZONE
TZID:America/Denver
BEGIN:STANDARD
TZNAME:MST
DTSTART:20301103T020000
TZOFFSETFROM:-0600
TZOFFSETTO:-0700
RDATE:20311102T020000
RDATE:20321107T020000
END:STANDARD
BEGIN:DAYLIGHT
TZNAME:MDT
DTSTART:20310309T020000
TZOFFSETFROM:-0700
TZOFFSETTO:-0600
RDATE:20320314T020000
END:DAYLIGHT
END:VTIMEZONE
BEGIN:VEVENT
UID:b7228cd8-3a58-487b-98cc-88c6fe0819d6
DTSTAMP:20260425T104657Z
DESCRIPTION:Create magical diamond art!
DTSTART;TZID=America/Denver:20310811T123000
DTEND;TZID=America/Denver:20310811T150000
LOCATION:7550 East Adobe Street\, Mesa\, AZ 85207 US
SUMMARY:Diamond Art
END:VEVENT
END:VCALENDAR
