BEGIN:VCALENDAR
VERSION:2.0
PRODID:-//www.asteraz.org//NONSGML kigkonsult.se iCalcreator 2.30.10//
CALSCALE:GREGORIAN
METHOD:PUBLISH
UID:bd5ad96b-bb9f-471e-b457-9b3a6470d072
X-WR-CALDESC:Come enjoy a good film and fresh popcorn at Aster's Movie Club
 .\nMovies are free to attend with complimentary popcorn. Additional snacks
  are available for purchase in the Café.
X-WR-RELCALID:f71e514a009a514d9c0a75813fe50458
X-WR-TIMEZONE:America/Denver
BEGIN:VTIMEZONE
TZID:America/Denver
BEGIN:STANDARD
TZNAME:MST
DTSTART:20301103T020000
TZOFFSETFROM:-0600
TZOFFSETTO:-0700
RDATE:20311102T020000
RDATE:20321107T020000
END:STANDARD
BEGIN:DAYLIGHT
TZNAME:MDT
DTSTART:20310309T020000
TZOFFSETFROM:-0700
TZOFFSETTO:-0600
RDATE:20320314T020000
END:DAYLIGHT
END:VTIMEZONE
BEGIN:VEVENT
UID:860168d6-910c-4541-a9f0-1c2842168edd
DTSTAMP:20260425T105841Z
DESCRIPTION:Come enjoy a good film and fresh popcorn at Aster's Movie Club.
 \nMovies are free to attend with complimentary popcorn. Additional snacks 
 are available for purchase in the Café.
DTSTART;TZID=America/Denver:20310807T123000
DTEND;TZID=America/Denver:20310807T150000
LOCATION:Mesa Downtown
SUMMARY:DT Movie Club
END:VEVENT
END:VCALENDAR
