BEGIN:VCALENDAR
VERSION:2.0
PRODID:-//www.asteraz.org//NONSGML kigkonsult.se iCalcreator 2.30.10//
CALSCALE:GREGORIAN
METHOD:PUBLISH
UID:96bc6408-8386-42f3-a4a7-2c7b92f820d5
X-WR-CALDESC:FREE blood pressure screenings are offered at Aster's Downtown
  Senior Center every Thursday to all participants. Learn your numbers to b
 etter manage your health!
X-WR-RELCALID:64546b3e9c82db43174ff27b442b76dd
X-WR-TIMEZONE:America/Denver
BEGIN:VTIMEZONE
TZID:America/Denver
BEGIN:STANDARD
TZNAME:MST
DTSTART:20301103T020000
TZOFFSETFROM:-0600
TZOFFSETTO:-0700
RDATE:20311102T020000
RDATE:20321107T020000
END:STANDARD
BEGIN:DAYLIGHT
TZNAME:MDT
DTSTART:20310309T020000
TZOFFSETFROM:-0700
TZOFFSETTO:-0600
RDATE:20320314T020000
END:DAYLIGHT
END:VTIMEZONE
BEGIN:VEVENT
UID:ef422b2f-b90f-4c42-8e22-c5c518b631ea
DTSTAMP:20260425T105645Z
DESCRIPTION:FREE blood pressure screenings are offered at Aster's Downtown 
 Senior Center every Thursday to all participants. Learn your numbers to be
 tter manage your health!
DTSTART;TZID=America/Denver:20310807T100000
DTEND;TZID=America/Denver:20310807T110000
LOCATION:247 N. Macdonald Street\, Mesa\, AZ 85201 US
SUMMARY:Blood pressure screenings
END:VEVENT
END:VCALENDAR
