BEGIN:VCALENDAR
VERSION:2.0
PRODID:-//www.asteraz.org//NONSGML kigkonsult.se iCalcreator 2.30.10//
CALSCALE:GREGORIAN
METHOD:PUBLISH
UID:b0672a26-8ae2-4b86-bb17-94f1ad09d7b8
X-WR-CALDESC:Learn to enhance your strength\, balance\, and spiritual healt
 h with this indoor Tai Chi class. The class for advanced practitioners beg
 ins at 8:30 am while beginner Tai Chi begins at 10:00 am. \n\nCost varies.
  Inquire directly to learn more.\n\nCapacity is limited - RSVP to secure y
 our spot.
X-WR-RELCALID:8d0380ea803afa1cffe25c153bff51b6
X-WR-TIMEZONE:America/Denver
BEGIN:VTIMEZONE
TZID:America/Denver
BEGIN:STANDARD
TZNAME:MST
DTSTART:20301103T020000
TZOFFSETFROM:-0600
TZOFFSETTO:-0700
RDATE:20311102T020000
RDATE:20321107T020000
END:STANDARD
BEGIN:DAYLIGHT
TZNAME:MDT
DTSTART:20310309T020000
TZOFFSETFROM:-0700
TZOFFSETTO:-0600
RDATE:20320314T020000
END:DAYLIGHT
END:VTIMEZONE
BEGIN:VEVENT
UID:9be1ae3e-e2e2-4fb6-956d-4412f87eb066
DTSTAMP:20260425T105433Z
DESCRIPTION:Learn to enhance your strength\, balance\, and spiritual health
  with this indoor Tai Chi class. The class for advanced practitioners begi
 ns at 8:30 am while beginner Tai Chi begins at 10:00 am. \n\nCost varies. 
 Inquire directly to learn more.\n\nCapacity is limited - RSVP to secure yo
 ur spot.
DTSTART;TZID=America/Denver:20310807T083000
DTEND;TZID=America/Denver:20310807T100000
LOCATION:Mesa Downtown Senior Center
SUMMARY:DT Tai Chi - Begin & Adv
END:VEVENT
END:VCALENDAR
