BEGIN:VCALENDAR
VERSION:2.0
PRODID:-//www.asteraz.org//NONSGML kigkonsult.se iCalcreator 2.30.10//
CALSCALE:GREGORIAN
METHOD:PUBLISH
UID:fa6f1e9e-6216-4f33-bb72-5c8ab308b4da
X-WR-CALDESC:Bedazzle rubber ducks in this fun and unique class every Wedne
 sday! \n\nCost: supplies
X-WR-RELCALID:e01a074048ac0d317336f5c48734119e
X-WR-TIMEZONE:America/Denver
BEGIN:VTIMEZONE
TZID:America/Denver
BEGIN:STANDARD
TZNAME:MST
DTSTART:20301103T020000
TZOFFSETFROM:-0600
TZOFFSETTO:-0700
RDATE:20311102T020000
RDATE:20321107T020000
END:STANDARD
BEGIN:DAYLIGHT
TZNAME:MDT
DTSTART:20310309T020000
TZOFFSETFROM:-0700
TZOFFSETTO:-0600
RDATE:20320314T020000
END:DAYLIGHT
END:VTIMEZONE
BEGIN:VEVENT
UID:5c18096e-6ec6-4d23-b257-50dee575ffdb
DTSTAMP:20260425T105702Z
DESCRIPTION:Bedazzle rubber ducks in this fun and unique class every Wednes
 day! \n\nCost: supplies
DTSTART;TZID=America/Denver:20310806T123000
DTEND;TZID=America/Denver:20310806T150000
LOCATION:7550 East Adobe Street\, Mesa\, AZ 85207 US
SUMMARY:Diamond Art Duckies
END:VEVENT
END:VCALENDAR
