BEGIN:VCALENDAR
VERSION:2.0
PRODID:-//www.asteraz.org//NONSGML kigkonsult.se iCalcreator 2.30.10//
CALSCALE:GREGORIAN
METHOD:PUBLISH
UID:4a5f8010-6330-4c50-97af-d2c9c863166f
X-WR-CALDESC:The plane is waiting on the tarmac to take you to fascinating 
 countries around the world.\n\nCapacity is limited.
X-WR-RELCALID:9d8ce949c77925f5688a4d5876fba904
X-WR-TIMEZONE:America/Denver
BEGIN:VTIMEZONE
TZID:America/Denver
BEGIN:STANDARD
TZNAME:MST
DTSTART:20301103T020000
TZOFFSETFROM:-0600
TZOFFSETTO:-0700
RDATE:20311102T020000
RDATE:20321107T020000
END:STANDARD
BEGIN:DAYLIGHT
TZNAME:MDT
DTSTART:20310309T020000
TZOFFSETFROM:-0700
TZOFFSETTO:-0600
RDATE:20320314T020000
END:DAYLIGHT
END:VTIMEZONE
BEGIN:VEVENT
UID:9de620d0-8b4d-4b2b-8b88-d336cd938858
DTSTAMP:20260425T105209Z
DESCRIPTION:The plane is waiting on the tarmac to take you to fascinating c
 ountries around the world.\n\nCapacity is limited.
DTSTART;TZID=America/Denver:20310804T140000
DTEND;TZID=America/Denver:20310804T150000
LOCATION:Mesa Downtown
SUMMARY:DT Virtual Travel
END:VEVENT
END:VCALENDAR
