BEGIN:VCALENDAR
VERSION:2.0
PRODID:-//www.asteraz.org//NONSGML kigkonsult.se iCalcreator 2.30.10//
CALSCALE:GREGORIAN
METHOD:PUBLISH
UID:6c221d7e-5ebf-4bc9-a292-bcf107487fe7
X-WR-CALDESC:Have fun singing golden-oldies or just watching others try in 
 this judgment free zone.
X-WR-RELCALID:041ce05c9e8379e5707ef5f4bf33aced
X-WR-TIMEZONE:America/Denver
BEGIN:VTIMEZONE
TZID:America/Denver
BEGIN:STANDARD
TZNAME:MST
DTSTART:20301103T020000
TZOFFSETFROM:-0600
TZOFFSETTO:-0700
RDATE:20311102T020000
RDATE:20321107T020000
END:STANDARD
BEGIN:DAYLIGHT
TZNAME:MDT
DTSTART:20310309T020000
TZOFFSETFROM:-0700
TZOFFSETTO:-0600
RDATE:20320314T020000
END:DAYLIGHT
END:VTIMEZONE
BEGIN:VEVENT
UID:2df77896-2fb1-4f5a-8619-38bfeda9909f
DTSTAMP:20260425T105701Z
DESCRIPTION:Have fun singing golden-oldies or just watching others try in t
 his judgment free zone.
DTSTART;TZID=America/Denver:20310804T123000
DTEND;TZID=America/Denver:20310804T133000
LOCATION:Mesa Downtown
SUMMARY:DT Karaoke Mondays
END:VEVENT
END:VCALENDAR
