BEGIN:VCALENDAR
VERSION:2.0
PRODID:-//www.asteraz.org//NONSGML kigkonsult.se iCalcreator 2.30.10//
CALSCALE:GREGORIAN
METHOD:PUBLISH
UID:b46a3baf-2685-4042-8b9d-c3c45e6def21
X-WR-CALDESC:Create magical diamond art!
X-WR-RELCALID:2f611b653cf8855a66a3e80f9c709796
X-WR-TIMEZONE:America/Denver
BEGIN:VTIMEZONE
TZID:America/Denver
BEGIN:STANDARD
TZNAME:MST
DTSTART:20301103T020000
TZOFFSETFROM:-0600
TZOFFSETTO:-0700
RDATE:20311102T020000
RDATE:20321107T020000
END:STANDARD
BEGIN:DAYLIGHT
TZNAME:MDT
DTSTART:20310309T020000
TZOFFSETFROM:-0700
TZOFFSETTO:-0600
RDATE:20320314T020000
END:DAYLIGHT
END:VTIMEZONE
BEGIN:VEVENT
UID:a75d5cbc-bc79-4d65-abdf-bcb0ee0a3f2d
DTSTAMP:20260425T104605Z
DESCRIPTION:Create magical diamond art!
DTSTART;TZID=America/Denver:20310804T123000
DTEND;TZID=America/Denver:20310804T150000
LOCATION:7550 East Adobe Street\, Mesa\, AZ 85207 US
SUMMARY:Diamond Art
END:VEVENT
END:VCALENDAR
