BEGIN:VCALENDAR
VERSION:2.0
PRODID:-//www.asteraz.org//NONSGML kigkonsult.se iCalcreator 2.30.10//
CALSCALE:GREGORIAN
METHOD:PUBLISH
UID:7456a866-e7c4-483a-a6a9-38df3bed909e
X-WR-CALDESC:Join us every Monday morning for Mahjong for beginners at the 
 Mesa Red Mountain Senior Center.
X-WR-RELCALID:b647492029e60e4f9df7101a5ab84edf
X-WR-TIMEZONE:America/Denver
BEGIN:VTIMEZONE
TZID:America/Denver
BEGIN:STANDARD
TZNAME:MST
DTSTART:20301103T020000
TZOFFSETFROM:-0600
TZOFFSETTO:-0700
RDATE:20311102T020000
RDATE:20321107T020000
END:STANDARD
BEGIN:DAYLIGHT
TZNAME:MDT
DTSTART:20310309T020000
TZOFFSETFROM:-0700
TZOFFSETTO:-0600
RDATE:20320314T020000
END:DAYLIGHT
END:VTIMEZONE
BEGIN:VEVENT
UID:0cca2ed2-d4b1-4692-a517-743dccd2c7b6
DTSTAMP:20260425T104732Z
DESCRIPTION:Join us every Monday morning for Mahjong for beginners at the M
 esa Red Mountain Senior Center.
DTSTART;TZID=America/Denver:20310804T093000
DTEND;TZID=America/Denver:20310804T120000
LOCATION:7550 East Adobe Street\, Mesa\, AZ 85207 US
SUMMARY:Mahjong for Beginners
END:VEVENT
END:VCALENDAR
