BEGIN:VCALENDAR
VERSION:2.0
PRODID:-//www.asteraz.org//NONSGML kigkonsult.se iCalcreator 2.30.10//
CALSCALE:GREGORIAN
METHOD:PUBLISH
UID:cd010670-2585-4658-95bf-80db297a5310
X-WR-CALDESC:Just like the real thing! Join us every Monday and Friday for 
 a lively game of Wii Bowling. Never played before? No problem! Wii Bowling
  is intuitive and easy to learn. Every week\, plenty of newcomers give it 
 a try\, and some even get a few Strikes!
X-WR-RELCALID:59d88c6250f2882b7f80008c6c6b795d
X-WR-TIMEZONE:America/Denver
BEGIN:VTIMEZONE
TZID:America/Denver
BEGIN:STANDARD
TZNAME:MST
DTSTART:20301103T020000
TZOFFSETFROM:-0600
TZOFFSETTO:-0700
RDATE:20311102T020000
RDATE:20321107T020000
END:STANDARD
BEGIN:DAYLIGHT
TZNAME:MDT
DTSTART:20310309T020000
TZOFFSETFROM:-0700
TZOFFSETTO:-0600
RDATE:20320314T020000
END:DAYLIGHT
END:VTIMEZONE
BEGIN:VEVENT
UID:7e6d74db-d5ec-46c5-af26-8dcd1d8dca6b
DTSTAMP:20260425T104900Z
DESCRIPTION:Just like the real thing! Join us every Monday and Friday for a
  lively game of Wii Bowling. Never played before? No problem! Wii Bowling 
 is intuitive and easy to learn. Every week\, plenty of newcomers give it a
  try\, and some even get a few Strikes!
DTSTART;TZID=America/Denver:20310804T080000
DTEND;TZID=America/Denver:20310804T110000
LOCATION:247 N. Macdonald Street\, Mesa\, AL 85201 US
SUMMARY:Wii Bowling
END:VEVENT
END:VCALENDAR
