BEGIN:VCALENDAR
VERSION:2.0
PRODID:-//www.asteraz.org//NONSGML kigkonsult.se iCalcreator 2.30.10//
CALSCALE:GREGORIAN
METHOD:PUBLISH
UID:728ed4b9-366a-4eb0-a5ad-20975a723c33
X-WR-CALDESC:Join instructor Jeanette for a great workout using bands\, wei
 ghts and more. Capacity is limited\, so RSVP today!
X-WR-RELCALID:bce7dc4ec4c8b1784757dbec3efa86ee
X-WR-TIMEZONE:America/Denver
BEGIN:VTIMEZONE
TZID:America/Denver
BEGIN:STANDARD
TZNAME:MST
DTSTART:20301103T020000
TZOFFSETFROM:-0600
TZOFFSETTO:-0700
RDATE:20311102T020000
RDATE:20321107T020000
END:STANDARD
BEGIN:DAYLIGHT
TZNAME:MDT
DTSTART:20310309T020000
TZOFFSETFROM:-0700
TZOFFSETTO:-0600
RDATE:20320314T020000
END:DAYLIGHT
END:VTIMEZONE
BEGIN:VEVENT
UID:3c343b21-d220-4e90-85c0-272954f15a6f
DTSTAMP:20260425T105913Z
DESCRIPTION:Join instructor Jeanette for a great workout using bands\, weig
 hts and more. Capacity is limited\, so RSVP today!
DTSTART;TZID=America/Denver:20310801T130000
DTEND;TZID=America/Denver:20310801T140000
LOCATION:247 N. Macdonald Street\, Mesa\, AZ 85201 US
SUMMARY:Geri Fit by Area Agency on Aging
END:VEVENT
END:VCALENDAR
