BEGIN:VCALENDAR
VERSION:2.0
PRODID:-//www.asteraz.org//NONSGML kigkonsult.se iCalcreator 2.30.10//
CALSCALE:GREGORIAN
METHOD:PUBLISH
UID:2e3e9240-e219-4a4d-bf46-14fdde923b17
X-WR-CALDESC:Facilitated by EMPACT. A bereavement support group for seniors
 . Connect with others who are grieving the loss of a loved one and connect
  with education and resources.
X-WR-RELCALID:6c46ba2d9c1670dc170614fd9c243b8e
X-WR-TIMEZONE:America/Denver
BEGIN:VTIMEZONE
TZID:America/Denver
BEGIN:STANDARD
TZNAME:MST
DTSTART:20301103T020000
TZOFFSETFROM:-0600
TZOFFSETTO:-0700
RDATE:20311102T020000
RDATE:20321107T020000
END:STANDARD
BEGIN:DAYLIGHT
TZNAME:MDT
DTSTART:20310309T020000
TZOFFSETFROM:-0700
TZOFFSETTO:-0600
RDATE:20320314T020000
END:DAYLIGHT
END:VTIMEZONE
BEGIN:VEVENT
UID:fe97ac18-553a-42f3-9c7a-21e90fe5690b
DTSTAMP:20260425T104835Z
DESCRIPTION:Facilitated by EMPACT. A bereavement support group for seniors.
  Connect with others who are grieving the loss of a loved one and connect 
 with education and resources.
DTSTART;TZID=America/Denver:20310801T100000
DTEND;TZID=America/Denver:20310801T110000
LOCATION:7550 East Adobe Street\, Mesa\, AZ 85207 US
SUMMARY:Grief and Loss Support Group
END:VEVENT
END:VCALENDAR
