BEGIN:VCALENDAR
VERSION:2.0
PRODID:-//www.asteraz.org//NONSGML kigkonsult.se iCalcreator 2.30.10//
CALSCALE:GREGORIAN
METHOD:PUBLISH
UID:7e358751-1a58-442e-936b-de91c65f4a9c
X-WR-CALDESC:Join us each first Friday of the month to share in the love of
  reading!
X-WR-RELCALID:759070c6a3ce7731d8327a0f916f93f1
X-WR-TIMEZONE:America/Denver
BEGIN:VTIMEZONE
TZID:America/Denver
BEGIN:STANDARD
TZNAME:MST
DTSTART:20301103T020000
TZOFFSETFROM:-0600
TZOFFSETTO:-0700
RDATE:20311102T020000
RDATE:20321107T020000
END:STANDARD
BEGIN:DAYLIGHT
TZNAME:MDT
DTSTART:20310309T020000
TZOFFSETFROM:-0700
TZOFFSETTO:-0600
RDATE:20320314T020000
END:DAYLIGHT
END:VTIMEZONE
BEGIN:VEVENT
UID:dcfedd61-eac9-44f3-bda4-033b61070bc0
DTSTAMP:20260425T105726Z
DESCRIPTION:Join us each first Friday of the month to share in the love of 
 reading!
DTSTART;TZID=America/Denver:20310801T100000
DTEND;TZID=America/Denver:20310801T110000
LOCATION:7550 East Adobe Street\, Mesa\, AZ 85207 US
SUMMARY:First Friday Book Club
END:VEVENT
END:VCALENDAR
